BEGIN:VCALENDAR
VERSION:2.0
PRODID:-//Tukios.com/
BEGIN:VEVENT
UID:205ac43b-fdf7-43e3-aa7c-23a1d56153fc@www.cruzfamilyfh.com
DTSTAMP:20260424T173244Z
DTSTART:20260426T170000Z
DTEND:20260426T190000Z
SUMMARY:Visitation
DESCRIPTION:
URL:https://www.cruzfamilyfh.com/obituaries/janet-knapp
LOCATION:Cruz Family Funeral Home 1109 Lincolnway West  Osceola IN 46561
GEO:41.6629658;-86.0835813
END:VEVENT
END:VCALENDAR