BEGIN:VCALENDAR
VERSION:2.0
PRODID:-//Tukios.com/
BEGIN:VEVENT
UID:199b42ac-f412-43d1-8989-0b1eaa588dd2@www.cruzfamilyfh.com
DTSTAMP:20260424T172405Z
DTSTART:20260426T190000Z
DTEND:20260426T200000Z
SUMMARY:Prayer Service
DESCRIPTION:
URL:https://www.cruzfamilyfh.com/obituaries/janet-knapp
LOCATION:Cruz Family Funeral Home 1109 Lincolnway West  Osceola IN 46561
GEO:41.6629658;-86.0835813
END:VEVENT
END:VCALENDAR